BEGIN:VCALENDAR
VERSION:2.0
PRODID:-//Turnverein Schaan - ECPv6.15.20//NONSGML v1.0//EN
CALSCALE:GREGORIAN
METHOD:PUBLISH
X-ORIGINAL-URL:https://tvschaan.li
X-WR-CALDESC:Veranstaltungen für Turnverein Schaan
REFRESH-INTERVAL;VALUE=DURATION:PT1H
X-Robots-Tag:noindex
X-PUBLISHED-TTL:PT1H
BEGIN:VTIMEZONE
TZID:Europe/Berlin
BEGIN:DAYLIGHT
TZOFFSETFROM:+0100
TZOFFSETTO:+0200
TZNAME:CEST
DTSTART:20230326T010000
END:DAYLIGHT
BEGIN:STANDARD
TZOFFSETFROM:+0200
TZOFFSETTO:+0100
TZNAME:CET
DTSTART:20231029T010000
END:STANDARD
BEGIN:DAYLIGHT
TZOFFSETFROM:+0100
TZOFFSETTO:+0200
TZNAME:CEST
DTSTART:20240331T010000
END:DAYLIGHT
BEGIN:STANDARD
TZOFFSETFROM:+0200
TZOFFSETTO:+0100
TZNAME:CET
DTSTART:20241027T010000
END:STANDARD
BEGIN:DAYLIGHT
TZOFFSETFROM:+0100
TZOFFSETTO:+0200
TZNAME:CEST
DTSTART:20250330T010000
END:DAYLIGHT
BEGIN:STANDARD
TZOFFSETFROM:+0200
TZOFFSETTO:+0100
TZNAME:CET
DTSTART:20251026T010000
END:STANDARD
END:VTIMEZONE
BEGIN:VEVENT
DTSTART;VALUE=DATE:20240907
DTEND;VALUE=DATE:20240908
DTSTAMP:20260420T221357
CREATED:20240303T082316Z
LAST-MODIFIED:20240303T082316Z
UID:12373-1725667200-1725753599@tvschaan.li
SUMMARY:Vereinsausflug
DESCRIPTION:
URL:https://tvschaan.li/termin/vereinsausflug/
CATEGORIES:Verein
ATTACH;FMTTYPE=image/webp:https://tvschaan.li/wp-content/uploads/2022/03/Logo_TVSchaan_neu-scaled.webp
ORGANIZER;CN="TV-Schaan":MAILTO:info@tvschaan.li
END:VEVENT
END:VCALENDAR